BEGIN:VCALENDAR
VERSION:2.0
PRODID:-//STEREOPTIK - ECPv6.15.17.1//NONSGML v1.0//EN
CALSCALE:GREGORIAN
METHOD:PUBLISH
X-ORIGINAL-URL:https://www.stereoptik.com
X-WR-CALDESC:Évènements pour STEREOPTIK
REFRESH-INTERVAL;VALUE=DURATION:PT1H
X-Robots-Tag:noindex
X-PUBLISHED-TTL:PT1H
BEGIN:VTIMEZONE
TZID:Europe/Helsinki
BEGIN:DAYLIGHT
TZOFFSETFROM:+0200
TZOFFSETTO:+0300
TZNAME:EEST
DTSTART:20130331T010000
END:DAYLIGHT
BEGIN:STANDARD
TZOFFSETFROM:+0300
TZOFFSETTO:+0200
TZNAME:EET
DTSTART:20131027T010000
END:STANDARD
BEGIN:DAYLIGHT
TZOFFSETFROM:+0200
TZOFFSETTO:+0300
TZNAME:EEST
DTSTART:20140330T010000
END:DAYLIGHT
BEGIN:STANDARD
TZOFFSETFROM:+0300
TZOFFSETTO:+0200
TZNAME:EET
DTSTART:20141026T010000
END:STANDARD
BEGIN:DAYLIGHT
TZOFFSETFROM:+0200
TZOFFSETTO:+0300
TZNAME:EEST
DTSTART:20150329T010000
END:DAYLIGHT
BEGIN:STANDARD
TZOFFSETFROM:+0300
TZOFFSETTO:+0200
TZNAME:EET
DTSTART:20151025T010000
END:STANDARD
END:VTIMEZONE
BEGIN:VEVENT
DTSTART;VALUE=DATE:20140114
DTEND;VALUE=DATE:20140116
DTSTAMP:20260421T041111
CREATED:20130731T214045Z
LAST-MODIFIED:20150511T083217Z
UID:812-1389661200-1389747599@www.stereoptik.com
SUMMARY:Stereoptik
DESCRIPTION:Stadttheater\, Langenthal\, Suisse
URL:https://www.stereoptik.com/date/stereoptik-56/
LOCATION:Stadttheater\, Langenthal\, Switzerland
CATEGORIES:Stereoptik
END:VEVENT
BEGIN:VEVENT
DTSTART;VALUE=DATE:20140116
DTEND;VALUE=DATE:20140118
DTSTAMP:20260421T041111
CREATED:20140107T162254Z
LAST-MODIFIED:20150511T082720Z
UID:829-1389834000-1389920399@www.stereoptik.com
SUMMARY:Stereoptik
DESCRIPTION:Casino-Theater\, Burgdorf\, Suisse
URL:https://www.stereoptik.com/date/stereoptik-18/
LOCATION:Casino-Theater\, Burgdorf\, Switzerland
CATEGORIES:Stereoptik
END:VEVENT
BEGIN:VEVENT
DTSTART;TZID=Europe/Helsinki:20140123T090000
DTEND;TZID=Europe/Helsinki:20140124T180000
DTSTAMP:20260421T041111
CREATED:20130704T182424Z
LAST-MODIFIED:20150511T082502Z
UID:664-1390467600-1390586400@www.stereoptik.com
SUMMARY:Congés Payés
DESCRIPTION:Espace Rabelais\, Chinon (37)
URL:https://www.stereoptik.com/date/conges-payes/
LOCATION:Espace Rabelais\, Chinon\, 37
CATEGORIES:Les Congés Payés
END:VEVENT
BEGIN:VEVENT
DTSTART;TZID=Europe/Helsinki:20140131T090000
DTEND;TZID=Europe/Helsinki:20140201T180000
DTSTAMP:20260421T041111
CREATED:20130704T182521Z
LAST-MODIFIED:20150511T082413Z
UID:665-1391158800-1391277600@www.stereoptik.com
SUMMARY:Congés Payés
DESCRIPTION:Centre André Malraux\, Hazebrouck (59)
URL:https://www.stereoptik.com/date/conges-payes-2/
LOCATION:Centre André Malraux\, Hazebrouck\, 59
CATEGORIES:Les Congés Payés
END:VEVENT
END:VCALENDAR