BEGIN:VCALENDAR
VERSION:2.0
PRODID:-//STEREOPTIK - ECPv6.15.17.1//NONSGML v1.0//EN
CALSCALE:GREGORIAN
METHOD:PUBLISH
X-WR-CALNAME:STEREOPTIK
X-ORIGINAL-URL:https://www.stereoptik.com
X-WR-CALDESC:Évènements pour STEREOPTIK
REFRESH-INTERVAL;VALUE=DURATION:PT1H
X-Robots-Tag:noindex
X-PUBLISHED-TTL:PT1H
BEGIN:VTIMEZONE
TZID:Europe/Helsinki
BEGIN:DAYLIGHT
TZOFFSETFROM:+0200
TZOFFSETTO:+0300
TZNAME:EEST
DTSTART:20130331T010000
END:DAYLIGHT
BEGIN:STANDARD
TZOFFSETFROM:+0300
TZOFFSETTO:+0200
TZNAME:EET
DTSTART:20131027T010000
END:STANDARD
BEGIN:DAYLIGHT
TZOFFSETFROM:+0200
TZOFFSETTO:+0300
TZNAME:EEST
DTSTART:20140330T010000
END:DAYLIGHT
BEGIN:STANDARD
TZOFFSETFROM:+0300
TZOFFSETTO:+0200
TZNAME:EET
DTSTART:20141026T010000
END:STANDARD
BEGIN:DAYLIGHT
TZOFFSETFROM:+0200
TZOFFSETTO:+0300
TZNAME:EEST
DTSTART:20150329T010000
END:DAYLIGHT
BEGIN:STANDARD
TZOFFSETFROM:+0300
TZOFFSETTO:+0200
TZNAME:EET
DTSTART:20151025T010000
END:STANDARD
END:VTIMEZONE
BEGIN:VEVENT
DTSTART;TZID=Europe/Helsinki:20141207T170000
DTEND;TZID=Europe/Helsinki:20141207T170000
DTSTAMP:20260419T150322
CREATED:20140828T133940Z
LAST-MODIFIED:20150511T072744Z
UID:881-1417971600-1417971600@www.stereoptik.com
SUMMARY:Stereoptik
DESCRIPTION:Espace Jean Lurçat\, Juvisy-sur-Orge (91)
URL:https://www.stereoptik.com/date/stereoptik-60/
LOCATION:Espace Jean Lurçat\, Juvisy-sur-Orge\, 91
CATEGORIES:Stereoptik
END:VEVENT
END:VCALENDAR