BEGIN:VCALENDAR
VERSION:2.0
PRODID:-//STEREOPTIK - ECPv6.15.17.1//NONSGML v1.0//EN
CALSCALE:GREGORIAN
METHOD:PUBLISH
X-WR-CALNAME:STEREOPTIK
X-ORIGINAL-URL:https://www.stereoptik.com
X-WR-CALDESC:Évènements pour STEREOPTIK
REFRESH-INTERVAL;VALUE=DURATION:PT1H
X-Robots-Tag:noindex
X-PUBLISHED-TTL:PT1H
BEGIN:VTIMEZONE
TZID:Europe/Helsinki
BEGIN:DAYLIGHT
TZOFFSETFROM:+0200
TZOFFSETTO:+0300
TZNAME:EEST
DTSTART:20110327T010000
END:DAYLIGHT
BEGIN:STANDARD
TZOFFSETFROM:+0300
TZOFFSETTO:+0200
TZNAME:EET
DTSTART:20111030T010000
END:STANDARD
BEGIN:DAYLIGHT
TZOFFSETFROM:+0200
TZOFFSETTO:+0300
TZNAME:EEST
DTSTART:20120325T010000
END:DAYLIGHT
BEGIN:STANDARD
TZOFFSETFROM:+0300
TZOFFSETTO:+0200
TZNAME:EET
DTSTART:20121028T010000
END:STANDARD
BEGIN:DAYLIGHT
TZOFFSETFROM:+0200
TZOFFSETTO:+0300
TZNAME:EEST
DTSTART:20130331T010000
END:DAYLIGHT
BEGIN:STANDARD
TZOFFSETFROM:+0300
TZOFFSETTO:+0200
TZNAME:EET
DTSTART:20131027T010000
END:STANDARD
END:VTIMEZONE
BEGIN:VEVENT
DTSTART;VALUE=DATE:20121026
DTEND;VALUE=DATE:20121027
DTSTAMP:20260421T114114
CREATED:20130710T154627Z
LAST-MODIFIED:20150511T093016Z
UID:717-1351209600-1351295999@www.stereoptik.com
SUMMARY:Stereoptik
DESCRIPTION:L’Entracte\, Centre Culturel de Sablé sur Sarthe (72)\nFestival Graines d’Images Junior\nwww.grainesdimages.com
URL:https://www.stereoptik.com/date/stereoptik-20/
LOCATION:L’Entracte\, Centre Culturel de Sablé sur Sarthe\, Sablé sur Sarthe\, 72
CATEGORIES:Stereoptik
END:VEVENT
END:VCALENDAR