BEGIN:VCALENDAR
VERSION:2.0
PRODID:-//STEREOPTIK - ECPv6.15.17.1//NONSGML v1.0//EN
CALSCALE:GREGORIAN
METHOD:PUBLISH
X-WR-CALNAME:STEREOPTIK
X-ORIGINAL-URL:https://www.stereoptik.com
X-WR-CALDESC:Évènements pour STEREOPTIK
REFRESH-INTERVAL;VALUE=DURATION:PT1H
X-Robots-Tag:noindex
X-PUBLISHED-TTL:PT1H
BEGIN:VTIMEZONE
TZID:Europe/Helsinki
BEGIN:DAYLIGHT
TZOFFSETFROM:+0200
TZOFFSETTO:+0300
TZNAME:EEST
DTSTART:20120325T010000
END:DAYLIGHT
BEGIN:STANDARD
TZOFFSETFROM:+0300
TZOFFSETTO:+0200
TZNAME:EET
DTSTART:20121028T010000
END:STANDARD
BEGIN:DAYLIGHT
TZOFFSETFROM:+0200
TZOFFSETTO:+0300
TZNAME:EEST
DTSTART:20130331T010000
END:DAYLIGHT
BEGIN:STANDARD
TZOFFSETFROM:+0300
TZOFFSETTO:+0200
TZNAME:EET
DTSTART:20131027T010000
END:STANDARD
BEGIN:DAYLIGHT
TZOFFSETFROM:+0200
TZOFFSETTO:+0300
TZNAME:EEST
DTSTART:20140330T010000
END:DAYLIGHT
BEGIN:STANDARD
TZOFFSETFROM:+0300
TZOFFSETTO:+0200
TZNAME:EET
DTSTART:20141026T010000
END:STANDARD
END:VTIMEZONE
BEGIN:VEVENT
DTSTART;TZID=Europe/Helsinki:20130206T090000
DTEND;TZID=Europe/Helsinki:20130207T180000
DTSTAMP:20260421T023115
CREATED:20130704T184640Z
LAST-MODIFIED:20150511T091925Z
UID:688-1360141200-1360260000@www.stereoptik.com
SUMMARY:Stereoptik
DESCRIPTION:Festival MOMIX\, Kingersheim (68)
URL:https://www.stereoptik.com/date/stereoptik-14/
LOCATION:Festival MOMIX\, Kingersheim\, 68
CATEGORIES:Stereoptik
END:VEVENT
BEGIN:VEVENT
DTSTART;VALUE=DATE:20130212
DTEND;VALUE=DATE:20130214
DTSTAMP:20260421T023115
CREATED:20130704T184559Z
LAST-MODIFIED:20150511T091802Z
UID:687-1360630800-1360717199@www.stereoptik.com
SUMMARY:Stereoptik
DESCRIPTION:Centre Culturel Jean L’Hôte\, Neuves Maisons (54)
URL:https://www.stereoptik.com/date/stereoptik-13/
LOCATION:Centre Culturel Jean L’Hôte\, Neuves Maisons\, 54
CATEGORIES:Stereoptik
END:VEVENT
END:VCALENDAR