BEGIN:VCALENDAR
VERSION:2.0
PRODID:-//STEREOPTIK - ECPv6.15.17.1//NONSGML v1.0//EN
CALSCALE:GREGORIAN
METHOD:PUBLISH
X-WR-CALNAME:STEREOPTIK
X-ORIGINAL-URL:https://www.stereoptik.com
X-WR-CALDESC:Évènements pour STEREOPTIK
REFRESH-INTERVAL;VALUE=DURATION:PT1H
X-Robots-Tag:noindex
X-PUBLISHED-TTL:PT1H
BEGIN:VTIMEZONE
TZID:Europe/Helsinki
BEGIN:DAYLIGHT
TZOFFSETFROM:+0200
TZOFFSETTO:+0300
TZNAME:EEST
DTSTART:20120325T010000
END:DAYLIGHT
BEGIN:STANDARD
TZOFFSETFROM:+0300
TZOFFSETTO:+0200
TZNAME:EET
DTSTART:20121028T010000
END:STANDARD
BEGIN:DAYLIGHT
TZOFFSETFROM:+0200
TZOFFSETTO:+0300
TZNAME:EEST
DTSTART:20130331T010000
END:DAYLIGHT
BEGIN:STANDARD
TZOFFSETFROM:+0300
TZOFFSETTO:+0200
TZNAME:EET
DTSTART:20131027T010000
END:STANDARD
BEGIN:DAYLIGHT
TZOFFSETFROM:+0200
TZOFFSETTO:+0300
TZNAME:EEST
DTSTART:20140330T010000
END:DAYLIGHT
BEGIN:STANDARD
TZOFFSETFROM:+0300
TZOFFSETTO:+0200
TZNAME:EET
DTSTART:20141026T010000
END:STANDARD
END:VTIMEZONE
BEGIN:VEVENT
DTSTART;TZID=Europe/Helsinki:20130123T090000
DTEND;TZID=Europe/Helsinki:20130125T180000
DTSTAMP:20260421T041333
CREATED:20130704T184905Z
LAST-MODIFIED:20150511T092246Z
UID:691-1358931600-1359136800@www.stereoptik.com
SUMMARY:Stereoptik
DESCRIPTION:Maison des Arts et de la Culture de Créteil (94)\nwww.maccreteil.com
URL:https://www.stereoptik.com/date/stereoptik-16/
LOCATION:Maison des Arts et de la Culture\, Créteil\, 94
CATEGORIES:Stereoptik
END:VEVENT
BEGIN:VEVENT
DTSTART;TZID=Europe/Helsinki:20130128T090000
DTEND;TZID=Europe/Helsinki:20130129T180000
DTSTAMP:20260421T041333
CREATED:20130704T184820Z
LAST-MODIFIED:20150511T092137Z
UID:690-1359363600-1359482400@www.stereoptik.com
SUMMARY:Stereoptik
DESCRIPTION:Théâtre Firmin Gémier/La Piscine\, Chatenay Malabry (92)\nwww.theatrefirmingemier-lapiscine.fr
URL:https://www.stereoptik.com/date/stereoptik-15/
LOCATION:Théâtre Firmin Gémier/La Piscine\, Chatenay Malabry\, 92
CATEGORIES:Stereoptik
END:VEVENT
END:VCALENDAR