BEGIN:VCALENDAR
VERSION:2.0
PRODID:-//STEREOPTIK - ECPv6.15.17.1//NONSGML v1.0//EN
CALSCALE:GREGORIAN
METHOD:PUBLISH
X-WR-CALNAME:STEREOPTIK
X-ORIGINAL-URL:https://www.stereoptik.com
X-WR-CALDESC:Évènements pour STEREOPTIK
REFRESH-INTERVAL;VALUE=DURATION:PT1H
X-Robots-Tag:noindex
X-PUBLISHED-TTL:PT1H
BEGIN:VTIMEZONE
TZID:Europe/Helsinki
BEGIN:DAYLIGHT
TZOFFSETFROM:+0200
TZOFFSETTO:+0300
TZNAME:EEST
DTSTART:20090329T010000
END:DAYLIGHT
BEGIN:STANDARD
TZOFFSETFROM:+0300
TZOFFSETTO:+0200
TZNAME:EET
DTSTART:20091025T010000
END:STANDARD
BEGIN:DAYLIGHT
TZOFFSETFROM:+0200
TZOFFSETTO:+0300
TZNAME:EEST
DTSTART:20100328T010000
END:DAYLIGHT
BEGIN:STANDARD
TZOFFSETFROM:+0300
TZOFFSETTO:+0200
TZNAME:EET
DTSTART:20101031T010000
END:STANDARD
BEGIN:DAYLIGHT
TZOFFSETFROM:+0200
TZOFFSETTO:+0300
TZNAME:EEST
DTSTART:20110327T010000
END:DAYLIGHT
BEGIN:STANDARD
TZOFFSETFROM:+0300
TZOFFSETTO:+0200
TZNAME:EET
DTSTART:20111030T010000
END:STANDARD
END:VTIMEZONE
BEGIN:VEVENT
DTSTART;TZID=Europe/Helsinki:20100518T080000
DTEND;TZID=Europe/Helsinki:20100519T170000
DTSTAMP:20260423T121439
CREATED:20130714T134842Z
LAST-MODIFIED:20150511T125745Z
UID:768-1274169600-1274288400@www.stereoptik.com
SUMMARY:Stereoptik
DESCRIPTION:Festival Scènes Ouvertes à l’Insolite\, Théâtre de la Cité Internationale\, Paris (75)\nProgrammation Théâtre de la Marionnette à Paris
URL:https://www.stereoptik.com/date/stereoptik-47/
LOCATION:Festival Scènes Ouvertes à l’Insolite\, Théâtre de la Cité Internationale\, Paris\, 75
CATEGORIES:Stereoptik
END:VEVENT
END:VCALENDAR