BEGIN:VCALENDAR
VERSION:2.0
PRODID:-//STEREOPTIK - ECPv6.15.17.1//NONSGML v1.0//EN
CALSCALE:GREGORIAN
METHOD:PUBLISH
X-WR-CALNAME:STEREOPTIK
X-ORIGINAL-URL:https://www.stereoptik.com
X-WR-CALDESC:Évènements pour STEREOPTIK
REFRESH-INTERVAL;VALUE=DURATION:PT1H
X-Robots-Tag:noindex
X-PUBLISHED-TTL:PT1H
BEGIN:VTIMEZONE
TZID:Europe/Helsinki
BEGIN:DAYLIGHT
TZOFFSETFROM:+0200
TZOFFSETTO:+0300
TZNAME:EEST
DTSTART:20090329T010000
END:DAYLIGHT
BEGIN:STANDARD
TZOFFSETFROM:+0300
TZOFFSETTO:+0200
TZNAME:EET
DTSTART:20091025T010000
END:STANDARD
BEGIN:DAYLIGHT
TZOFFSETFROM:+0200
TZOFFSETTO:+0300
TZNAME:EEST
DTSTART:20100328T010000
END:DAYLIGHT
BEGIN:STANDARD
TZOFFSETFROM:+0300
TZOFFSETTO:+0200
TZNAME:EET
DTSTART:20101031T010000
END:STANDARD
BEGIN:DAYLIGHT
TZOFFSETFROM:+0200
TZOFFSETTO:+0300
TZNAME:EEST
DTSTART:20110327T010000
END:DAYLIGHT
BEGIN:STANDARD
TZOFFSETFROM:+0300
TZOFFSETTO:+0200
TZNAME:EET
DTSTART:20111030T010000
END:STANDARD
END:VTIMEZONE
BEGIN:VEVENT
DTSTART;VALUE=DATE:20100423
DTEND;VALUE=DATE:20100424
DTSTAMP:20260423T140149
CREATED:20130714T134930Z
LAST-MODIFIED:20150511T125913Z
UID:769-1271980800-1272067199@www.stereoptik.com
SUMMARY:Stereoptik
DESCRIPTION:Excentrique en Région Centre
URL:https://www.stereoptik.com/date/stereoptik-48/
LOCATION:Excentrique en Région Centre
CATEGORIES:Stereoptik
END:VEVENT
END:VCALENDAR