BEGIN:VCALENDAR
VERSION:2.0
PRODID:-//STEREOPTIK - ECPv6.15.17.1//NONSGML v1.0//EN
CALSCALE:GREGORIAN
METHOD:PUBLISH
X-WR-CALNAME:STEREOPTIK
X-ORIGINAL-URL:https://www.stereoptik.com
X-WR-CALDESC:Évènements pour STEREOPTIK
REFRESH-INTERVAL;VALUE=DURATION:PT1H
X-Robots-Tag:noindex
X-PUBLISHED-TTL:PT1H
BEGIN:VTIMEZONE
TZID:Europe/Helsinki
BEGIN:DAYLIGHT
TZOFFSETFROM:+0200
TZOFFSETTO:+0300
TZNAME:EEST
DTSTART:20110327T010000
END:DAYLIGHT
BEGIN:STANDARD
TZOFFSETFROM:+0300
TZOFFSETTO:+0200
TZNAME:EET
DTSTART:20111030T010000
END:STANDARD
BEGIN:DAYLIGHT
TZOFFSETFROM:+0200
TZOFFSETTO:+0300
TZNAME:EEST
DTSTART:20120325T010000
END:DAYLIGHT
BEGIN:STANDARD
TZOFFSETFROM:+0300
TZOFFSETTO:+0200
TZNAME:EET
DTSTART:20121028T010000
END:STANDARD
BEGIN:DAYLIGHT
TZOFFSETFROM:+0200
TZOFFSETTO:+0300
TZNAME:EEST
DTSTART:20130331T010000
END:DAYLIGHT
BEGIN:STANDARD
TZOFFSETFROM:+0300
TZOFFSETTO:+0200
TZNAME:EET
DTSTART:20131027T010000
END:STANDARD
BEGIN:DAYLIGHT
TZOFFSETFROM:+0200
TZOFFSETTO:+0300
TZNAME:EEST
DTSTART:20140330T010000
END:DAYLIGHT
BEGIN:STANDARD
TZOFFSETFROM:+0300
TZOFFSETTO:+0200
TZNAME:EET
DTSTART:20141026T010000
END:STANDARD
END:VTIMEZONE
BEGIN:VEVENT
DTSTART;VALUE=DATE:20120623
DTEND;VALUE=DATE:20130624
DTSTAMP:20260421T191147
CREATED:20130710T160427Z
LAST-MODIFIED:20150511T094958Z
UID:733-1340409600-1372031999@www.stereoptik.com
SUMMARY:Congés Payés
DESCRIPTION:Excentrique en Région Centre\nNéron (28)
URL:https://www.stereoptik.com/date/conges-payes-21/
LOCATION:Excentrique en Région Centre\, Néron\, 28
CATEGORIES:Les Congés Payés
END:VEVENT
BEGIN:VEVENT
DTSTART;VALUE=DATE:20130507
DTEND;VALUE=DATE:20130508
DTSTAMP:20260421T191147
CREATED:20130704T183613Z
LAST-MODIFIED:20150511T090048Z
UID:676-1367884800-1367971199@www.stereoptik.com
SUMMARY:Les Costumes Trop Grands
DESCRIPTION:Le Théâtre\, Bourg en Bresse (01)\nDans le cadre de C’est pas Sérieux!
URL:https://www.stereoptik.com/date/les-costumes-trop-grands-6/
LOCATION:Le Théâtre de Bourg en Bresse\, Bourg en Bresse\, 01
CATEGORIES:Les Costumes Trop Grands
END:VEVENT
END:VCALENDAR